BEGIN:VCALENDAR
VERSION:2.0
PRODID:-//Academy Canada Career College - ECPv6.15.18//NONSGML v1.0//EN
CALSCALE:GREGORIAN
METHOD:PUBLISH
X-ORIGINAL-URL:https://www.academycanada.com
X-WR-CALDESC:Events for Academy Canada Career College
REFRESH-INTERVAL;VALUE=DURATION:PT1H
X-Robots-Tag:noindex
X-PUBLISHED-TTL:PT1H
BEGIN:VTIMEZONE
TZID:America/St_Johns
BEGIN:DAYLIGHT
TZOFFSETFROM:-0330
TZOFFSETTO:-0230
TZNAME:NDT
DTSTART:20250309T053000
END:DAYLIGHT
BEGIN:STANDARD
TZOFFSETFROM:-0230
TZOFFSETTO:-0330
TZNAME:NST
DTSTART:20251102T043000
END:STANDARD
BEGIN:DAYLIGHT
TZOFFSETFROM:-0330
TZOFFSETTO:-0230
TZNAME:NDT
DTSTART:20260308T053000
END:DAYLIGHT
BEGIN:STANDARD
TZOFFSETFROM:-0230
TZOFFSETTO:-0330
TZNAME:NST
DTSTART:20261101T043000
END:STANDARD
BEGIN:DAYLIGHT
TZOFFSETFROM:-0330
TZOFFSETTO:-0230
TZNAME:NDT
DTSTART:20270314T053000
END:DAYLIGHT
BEGIN:STANDARD
TZOFFSETFROM:-0230
TZOFFSETTO:-0330
TZNAME:NST
DTSTART:20271107T043000
END:STANDARD
END:VTIMEZONE
BEGIN:VEVENT
DTSTART;VALUE=DATE:20260430
DTEND;VALUE=DATE:20260501
DTSTAMP:20260420T171505
CREATED:20250612T133249Z
LAST-MODIFIED:20250616T175706Z
UID:10000124-1777507200-1777593599@www.academycanada.com
SUMMARY:Automotive Service Technician - April 2026
DESCRIPTION:Campus: Harding Road \nStart Date: April 30\, 2026 \nStart Date: February 23\, 2027
URL:https://www.academycanada.com/start-date/automotive-service-technician-april2026/
LOCATION:Harding Road Campus\, 37-45 Harding Road\, St. John's\, Newfoundland and Labrador\, A1A5T8\, Canada
CATEGORIES:Harding Rd,Start Dates
ATTACH;FMTTYPE=image/jpeg:https://www.academycanada.com/wp-content/uploads/2025/01/kenny-eliason-2K_-PG95qlI-unsplash-scaled.jpg
END:VEVENT
BEGIN:VEVENT
DTSTART;VALUE=DATE:20260525
DTEND;VALUE=DATE:20260526
DTSTAMP:20260420T171505
CREATED:20250918T124441Z
LAST-MODIFIED:20260330T163012Z
UID:10000245-1779667200-1779753599@www.academycanada.com
SUMMARY:Automotive Service Technician - May 2026
DESCRIPTION:Campus: Harding Road \nStart Date: May 25\, 2026 \nStart Date: March 17\, 2027
URL:https://www.academycanada.com/start-date/automotive-service-technician-may-2026/
LOCATION:Harding Road Campus\, 37-45 Harding Road\, St. John's\, Newfoundland and Labrador\, A1A5T8\, Canada
CATEGORIES:Harding Rd,Start Dates
ATTACH;FMTTYPE=image/jpeg:https://www.academycanada.com/wp-content/uploads/2025/01/kenny-eliason-2K_-PG95qlI-unsplash-scaled.jpg
END:VEVENT
BEGIN:VEVENT
DTSTART;VALUE=DATE:20260901
DTEND;VALUE=DATE:20260902
DTSTAMP:20260420T171505
CREATED:20260330T163540Z
LAST-MODIFIED:20260409T161505Z
UID:10000254-1788220800-1788307199@www.academycanada.com
SUMMARY:Automotive Service Technician - TBA*
DESCRIPTION:Campus: Corner Brook* and Harding Road \nStart Date: September 2026 \n*Pending government approval
URL:https://www.academycanada.com/start-date/automotive-service-technician-tba/
LOCATION:Corner Brook Campus\, 2 University Drive\, Corner Brook\, Newfoundland and Labrador\, A2H 5G4\, Canada
CATEGORIES:Corner Brook,Harding Rd,Start Dates
ATTACH;FMTTYPE=image/jpeg:https://www.academycanada.com/wp-content/uploads/2025/01/kenny-eliason-2K_-PG95qlI-unsplash-scaled.jpg
END:VEVENT
END:VCALENDAR