BEGIN:VCALENDAR
VERSION:2.0
PRODID:-//Academy Canada Career College - ECPv6.15.18//NONSGML v1.0//EN
CALSCALE:GREGORIAN
METHOD:PUBLISH
X-WR-CALNAME:Academy Canada Career College
X-ORIGINAL-URL:https://www.academycanada.com
X-WR-CALDESC:Events for Academy Canada Career College
REFRESH-INTERVAL;VALUE=DURATION:PT1H
X-Robots-Tag:noindex
X-PUBLISHED-TTL:PT1H
BEGIN:VTIMEZONE
TZID:America/St_Johns
BEGIN:DAYLIGHT
TZOFFSETFROM:-0330
TZOFFSETTO:-0230
TZNAME:NDT
DTSTART:20250309T053000
END:DAYLIGHT
BEGIN:STANDARD
TZOFFSETFROM:-0230
TZOFFSETTO:-0330
TZNAME:NST
DTSTART:20251102T043000
END:STANDARD
BEGIN:DAYLIGHT
TZOFFSETFROM:-0330
TZOFFSETTO:-0230
TZNAME:NDT
DTSTART:20260308T053000
END:DAYLIGHT
BEGIN:STANDARD
TZOFFSETFROM:-0230
TZOFFSETTO:-0330
TZNAME:NST
DTSTART:20261101T043000
END:STANDARD
BEGIN:DAYLIGHT
TZOFFSETFROM:-0330
TZOFFSETTO:-0230
TZNAME:NDT
DTSTART:20270314T053000
END:DAYLIGHT
BEGIN:STANDARD
TZOFFSETFROM:-0230
TZOFFSETTO:-0330
TZNAME:NST
DTSTART:20271107T043000
END:STANDARD
END:VTIMEZONE
BEGIN:VEVENT
DTSTART;VALUE=DATE:20260303
DTEND;VALUE=DATE:20260304
DTSTAMP:20260420T204509
CREATED:20250612T134041Z
LAST-MODIFIED:20250616T175917Z
UID:10000130-1772496000-1772582399@www.academycanada.com
SUMMARY:Carpentry - March 2026
DESCRIPTION:Campus: Corner Brook \nStart Date: March 3\, 2026 \nEnd Date: January 4\, 2027
URL:https://www.academycanada.com/start-date/carpentry-march2026/
LOCATION:Corner Brook Campus\, 2 University Drive\, Corner Brook\, Newfoundland and Labrador\, A2H 5G4\, Canada
CATEGORIES:Corner Brook,Start Dates
ATTACH;FMTTYPE=image/jpeg:https://www.academycanada.com/wp-content/uploads/2025/01/chandler-cruttenden-lVkLebCwHig-unsplash-scaled-e1737034286143.jpg
END:VEVENT
BEGIN:VEVENT
DTSTART;VALUE=DATE:20260127
DTEND;VALUE=DATE:20260128
DTSTAMP:20260420T204509
CREATED:20250612T133658Z
LAST-MODIFIED:20250616T180212Z
UID:10000127-1769472000-1769558399@www.academycanada.com
SUMMARY:Carpentry - January 2026
DESCRIPTION:Campus: Harding Road \nStart Date: January 27\, 2026 \nEnd Date: November 16\, 2026
URL:https://www.academycanada.com/start-date/carpentry-january2026-2/
LOCATION:Harding Road Campus\, 37-45 Harding Road\, St. John's\, Newfoundland and Labrador\, A1A5T8\, Canada
CATEGORIES:Harding Rd,Start Dates
ATTACH;FMTTYPE=image/jpeg:https://www.academycanada.com/wp-content/uploads/2025/01/chandler-cruttenden-lVkLebCwHig-unsplash-scaled-e1737034286143.jpg
END:VEVENT
BEGIN:VEVENT
DTSTART;VALUE=DATE:20260105
DTEND;VALUE=DATE:20260106
DTSTAMP:20260420T204509
CREATED:20250612T133626Z
LAST-MODIFIED:20250807T155611Z
UID:10000126-1767571200-1767657599@www.academycanada.com
SUMMARY:Carpentry - January 2026
DESCRIPTION:Campus: Harding Road + Corner Brook \nStart Date: January 5\, 2026 \nEnd Date: October 22\, 2026
URL:https://www.academycanada.com/start-date/carpentry-january2026/
LOCATION:Harding Road Campus\, 37-45 Harding Road\, St. John's\, Newfoundland and Labrador\, A1A5T8\, Canada
CATEGORIES:Corner Brook,Harding Rd,Start Dates
ATTACH;FMTTYPE=image/jpeg:https://www.academycanada.com/wp-content/uploads/2025/01/chandler-cruttenden-lVkLebCwHig-unsplash-scaled-e1737034286143.jpg
END:VEVENT
END:VCALENDAR