BEGIN:VCALENDAR
VERSION:2.0
PRODID:-//Academy Canada Career College - ECPv6.15.18//NONSGML v1.0//EN
CALSCALE:GREGORIAN
METHOD:PUBLISH
X-WR-CALNAME:Academy Canada Career College
X-ORIGINAL-URL:https://www.academycanada.com
X-WR-CALDESC:Events for Academy Canada Career College
REFRESH-INTERVAL;VALUE=DURATION:PT1H
X-Robots-Tag:noindex
X-PUBLISHED-TTL:PT1H
BEGIN:VTIMEZONE
TZID:America/St_Johns
BEGIN:DAYLIGHT
TZOFFSETFROM:-0330
TZOFFSETTO:-0230
TZNAME:NDT
DTSTART:20250309T053000
END:DAYLIGHT
BEGIN:STANDARD
TZOFFSETFROM:-0230
TZOFFSETTO:-0330
TZNAME:NST
DTSTART:20251102T043000
END:STANDARD
BEGIN:DAYLIGHT
TZOFFSETFROM:-0330
TZOFFSETTO:-0230
TZNAME:NDT
DTSTART:20260308T053000
END:DAYLIGHT
BEGIN:STANDARD
TZOFFSETFROM:-0230
TZOFFSETTO:-0330
TZNAME:NST
DTSTART:20261101T043000
END:STANDARD
BEGIN:DAYLIGHT
TZOFFSETFROM:-0330
TZOFFSETTO:-0230
TZNAME:NDT
DTSTART:20270314T053000
END:DAYLIGHT
BEGIN:STANDARD
TZOFFSETFROM:-0230
TZOFFSETTO:-0330
TZNAME:NST
DTSTART:20271107T043000
END:STANDARD
END:VTIMEZONE
BEGIN:VEVENT
DTSTART;VALUE=DATE:20260224
DTEND;VALUE=DATE:20260225
DTSTAMP:20260426T001749
CREATED:20250612T175231Z
LAST-MODIFIED:20250918T115311Z
UID:10000144-1771891200-1771977599@www.academycanada.com
SUMMARY:Criminology - February 2026
DESCRIPTION:Campus: Kenmount Road + Corner Brook \nStart Date: February 24\, 2026 \nEnd Date: March 2\, 2028
URL:https://www.academycanada.com/start-date/criminology-february2026-2/
LOCATION:Kenmount Road Campus\, 167-169 Kenmount Road\, St. John's\, Newfoundland and Labrador\, A1B3P9\, Canada
CATEGORIES:Corner Brook,Kenmount Rd,Start Dates
ATTACH;FMTTYPE=image/jpeg:https://www.academycanada.com/wp-content/uploads/2025/01/daniel-von-appen-WW-4bspunFY-unsplash-scaled.jpg
END:VEVENT
END:VCALENDAR