BEGIN:VCALENDAR
VERSION:2.0
PRODID:-//Academy Canada Career College - ECPv6.15.18//NONSGML v1.0//EN
CALSCALE:GREGORIAN
METHOD:PUBLISH
X-WR-CALNAME:Academy Canada Career College
X-ORIGINAL-URL:https://www.academycanada.com
X-WR-CALDESC:Events for Academy Canada Career College
REFRESH-INTERVAL;VALUE=DURATION:PT1H
X-Robots-Tag:noindex
X-PUBLISHED-TTL:PT1H
BEGIN:VTIMEZONE
TZID:America/St_Johns
BEGIN:DAYLIGHT
TZOFFSETFROM:-0330
TZOFFSETTO:-0230
TZNAME:NDT
DTSTART:20250309T053000
END:DAYLIGHT
BEGIN:STANDARD
TZOFFSETFROM:-0230
TZOFFSETTO:-0330
TZNAME:NST
DTSTART:20251102T043000
END:STANDARD
BEGIN:DAYLIGHT
TZOFFSETFROM:-0330
TZOFFSETTO:-0230
TZNAME:NDT
DTSTART:20260308T053000
END:DAYLIGHT
BEGIN:STANDARD
TZOFFSETFROM:-0230
TZOFFSETTO:-0330
TZNAME:NST
DTSTART:20261101T043000
END:STANDARD
BEGIN:DAYLIGHT
TZOFFSETFROM:-0330
TZOFFSETTO:-0230
TZNAME:NDT
DTSTART:20270314T053000
END:DAYLIGHT
BEGIN:STANDARD
TZOFFSETFROM:-0230
TZOFFSETTO:-0330
TZNAME:NST
DTSTART:20271107T043000
END:STANDARD
END:VTIMEZONE
BEGIN:VEVENT
DTSTART;VALUE=DATE:20260105
DTEND;VALUE=DATE:20260106
DTSTAMP:20260420T234435
CREATED:20250625T132713Z
LAST-MODIFIED:20250625T133141Z
UID:10000241-1767571200-1767657599@www.academycanada.com
SUMMARY:Electrolysis - January 2026
DESCRIPTION:Campus: Kenmount Road \nStart Date: January 5\, 2026 \nStart Date: April 24\, 2026
URL:https://www.academycanada.com/start-date/electrolysis-january-2026/
LOCATION:Kenmount Road Campus\, 167-169 Kenmount Road\, St. John's\, Newfoundland and Labrador\, A1B3P9\, Canada
CATEGORIES:Kenmount Rd,Start Dates
ATTACH;FMTTYPE=image/jpeg:https://www.academycanada.com/wp-content/uploads/2025/01/rosa-rafael-Pe9IXUuC6QU-unsplash-scaled.jpg
END:VEVENT
END:VCALENDAR